BEGIN:VCALENDAR
VERSION:2.0
PRODID:-//Limerick Local Studies - ECPv6.5.0//NONSGML v1.0//EN
CALSCALE:GREGORIAN
METHOD:PUBLISH
X-WR-CALNAME:Limerick Local Studies
X-ORIGINAL-URL:https://limericklocalstudies.ie
X-WR-CALDESC:Events for Limerick Local Studies
REFRESH-INTERVAL;VALUE=DURATION:PT1H
X-Robots-Tag:noindex
X-PUBLISHED-TTL:PT1H
BEGIN:VTIMEZONE
TZID:Europe/London
BEGIN:DAYLIGHT
TZOFFSETFROM:+0000
TZOFFSETTO:+0100
TZNAME:BST
DTSTART:20240331T010000
END:DAYLIGHT
BEGIN:STANDARD
TZOFFSETFROM:+0100
TZOFFSETTO:+0000
TZNAME:GMT
DTSTART:20241027T010000
END:STANDARD
END:VTIMEZONE
BEGIN:VEVENT
DTSTART;TZID=Europe/London:20240530T183000
DTEND;TZID=Europe/London:20240530T200000
DTSTAMP:20260424T130822
CREATED:20240521T122530Z
LAST-MODIFIED:20240521T124140Z
UID:10380-1717093800-1717099200@limericklocalstudies.ie
SUMMARY:An Oral History of the Royal Irish Constabulary - talk at Limerick City Library
DESCRIPTION:Dr. Brian Hughes (MIC) and Dr. Seán Gannon (Limerick Local Studies) will discuss their Royal Irish Academy-funded ‘Oral History of the Royal Irish Constabulary’ project which is investigating the lives of RIC personnel after the disbandment of the force in 1922.
URL:https://limericklocalstudies.ie/event/an-oral-history-of-the-royal-irish-constabulary-talk-at-limerick-city-library/
LOCATION:Limerick City Library\, Barrow House\, Michael Street\, Limerick\, V94 RF63\, Ireland
CATEGORIES:LC Events
ATTACH;FMTTYPE=image/jpeg:https://limericklocalstudies.ie/wp-content/uploads/2024/05/ric-talk-image-edit-1.jpg
ORGANIZER;CN="Limerick City Library":MAILTO:citylibrary@limerick.ie
END:VEVENT
END:VCALENDAR